BEGIN:VCALENDAR
VERSION:2.0
PRODID:-//Washington Park Camera Club - ECPv6.15.20//NONSGML v1.0//EN
CALSCALE:GREGORIAN
METHOD:PUBLISH
X-WR-CALNAME:Washington Park Camera Club
X-ORIGINAL-URL:https://washingtonparkcameraclub.org
X-WR-CALDESC:Events for Washington Park Camera Club
REFRESH-INTERVAL;VALUE=DURATION:PT1H
X-Robots-Tag:noindex
X-PUBLISHED-TTL:PT1H
BEGIN:VTIMEZONE
TZID:America/Chicago
BEGIN:DAYLIGHT
TZOFFSETFROM:-0600
TZOFFSETTO:-0500
TZNAME:CDT
DTSTART:20250309T080000
END:DAYLIGHT
BEGIN:STANDARD
TZOFFSETFROM:-0500
TZOFFSETTO:-0600
TZNAME:CST
DTSTART:20251102T070000
END:STANDARD
BEGIN:DAYLIGHT
TZOFFSETFROM:-0600
TZOFFSETTO:-0500
TZNAME:CDT
DTSTART:20260308T080000
END:DAYLIGHT
BEGIN:STANDARD
TZOFFSETFROM:-0500
TZOFFSETTO:-0600
TZNAME:CST
DTSTART:20261101T070000
END:STANDARD
BEGIN:DAYLIGHT
TZOFFSETFROM:-0600
TZOFFSETTO:-0500
TZNAME:CDT
DTSTART:20270314T080000
END:DAYLIGHT
BEGIN:STANDARD
TZOFFSETFROM:-0500
TZOFFSETTO:-0600
TZNAME:CST
DTSTART:20271107T070000
END:STANDARD
END:VTIMEZONE
BEGIN:VEVENT
DTSTART;TZID=America/Chicago:20260421T183000
DTEND;TZID=America/Chicago:20260421T200000
DTSTAMP:20260422T042435
CREATED:20260405T203059Z
LAST-MODIFIED:20260405T203100Z
UID:3999-1776796200-1776801600@washingtonparkcameraclub.org
SUMMARY:In-Person WPCC  Photography Shoot "Food"
DESCRIPTION:Ready to level up your foodie photography game? \n\n\n\nJoin us for a deliciously creative Food Photography Shoot! \n\n\n\nWe’ll have beautifully styled dishes\, vibrant colors\, interesting textures\, and plenty of chances to experiment with lighting\, angles\, and composition. Whether you’re into mouthwatering close‑ups or dramatic still‑life setups\, this is your chance to play\, practice\, and capture something irresistible. \n\n\n\nBring your camera\, your flash\, your curiosity\, and maybe an empty stomach—because this event is going to be a feast for your lens! Come hungry for inspiration and leave with shots that look good enough to eat. Let’s make food look fabulous.
URL:https://washingtonparkcameraclub.org/event/in-person-wpcc-photography-shoot-food
LOCATION:Washington Park Fieldhouse\, 5531 S. King Drive\, Chicago\, Illinois\, 60637
CATEGORIES:Workshop
END:VEVENT
BEGIN:VEVENT
DTSTART;TZID=America/Chicago:20260428T190000
DTEND;TZID=America/Chicago:20260428T203000
DTSTAMP:20260422T042435
CREATED:20260421T133041Z
LAST-MODIFIED:20260421T133248Z
UID:4038-1777402800-1777408200@washingtonparkcameraclub.org
SUMMARY:Zoom WPCC Image Feedback Session
DESCRIPTION:Feedback Session Overview \n\n\n\nDo you have special images you’ve captured\, but feel uncertain about them or think something might be missing? Perhaps you wonder if they could have been taken a little differently. This session is designed for photographers like you seeking insight and improvement. \n\n\n\nConstructive Peer Feedback\n\n\n\nTake advantage of this opportunity to receive thoughtful\, constructive feedback from fellow club photographers. The feedback will focus on artistic perspective and creativity\, without any connection to competition rules or CACCA guidelines. \n\n\n\nImage Submission Guidelines\n\n\n\nYou may submit up to three images for review. Please ensure your submissions are received no later than April 27th by uploading them using the provided link. \n\n\n\nhttps://washingtonparkcameraclub.org/submit-program-images?wpf2863_4=2026 Apr – Feedback %26 Critique
URL:https://washingtonparkcameraclub.org/event/zoom-wpcc-image-feedback-session
LOCATION:Zoom
END:VEVENT
END:VCALENDAR