BEGIN:VCALENDAR
VERSION:2.0
PRODID:-//Washington Park Camera Club - ECPv6.15.20//NONSGML v1.0//EN
CALSCALE:GREGORIAN
METHOD:PUBLISH
X-ORIGINAL-URL:https://washingtonparkcameraclub.org
X-WR-CALDESC:Events for Washington Park Camera Club
REFRESH-INTERVAL;VALUE=DURATION:PT1H
X-Robots-Tag:noindex
X-PUBLISHED-TTL:PT1H
BEGIN:VTIMEZONE
TZID:America/Chicago
BEGIN:DAYLIGHT
TZOFFSETFROM:-0600
TZOFFSETTO:-0500
TZNAME:CDT
DTSTART:20240310T080000
END:DAYLIGHT
BEGIN:STANDARD
TZOFFSETFROM:-0500
TZOFFSETTO:-0600
TZNAME:CST
DTSTART:20241103T070000
END:STANDARD
BEGIN:DAYLIGHT
TZOFFSETFROM:-0600
TZOFFSETTO:-0500
TZNAME:CDT
DTSTART:20250309T080000
END:DAYLIGHT
BEGIN:STANDARD
TZOFFSETFROM:-0500
TZOFFSETTO:-0600
TZNAME:CST
DTSTART:20251102T070000
END:STANDARD
BEGIN:DAYLIGHT
TZOFFSETFROM:-0600
TZOFFSETTO:-0500
TZNAME:CDT
DTSTART:20260308T080000
END:DAYLIGHT
BEGIN:STANDARD
TZOFFSETFROM:-0500
TZOFFSETTO:-0600
TZNAME:CST
DTSTART:20261101T070000
END:STANDARD
END:VTIMEZONE
BEGIN:VEVENT
DTSTART;TZID=America/Chicago:20250121T190000
DTEND;TZID=America/Chicago:20250121T200000
DTSTAMP:20260419T092050
CREATED:20250104T175534Z
LAST-MODIFIED:20250206T235652Z
UID:3033-1737486000-1737489600@washingtonparkcameraclub.org
SUMMARY:Zoom: WPCC December Theme: 'Holiday Season' Show & Tell
DESCRIPTION:The December theme is anything reflecting the Christmas\, Kwanza celebrations\, gatherings\, decorations\, etc. WPCC members who participated in this activity will share 5 of their creative images and tell the meaning of their choices. Check email for the link to submit images \n\n\n\nThis will be via zoom.
URL:https://washingtonparkcameraclub.org/event/wpcc-december-theme-holiday-season-show-tell
LOCATION:Zoom
CATEGORIES:Show & Tell
END:VEVENT
END:VCALENDAR