BEGIN:VCALENDAR
VERSION:2.0
PRODID:-//Washington Park Camera Club - ECPv6.15.20//NONSGML v1.0//EN
CALSCALE:GREGORIAN
METHOD:PUBLISH
X-ORIGINAL-URL:https://washingtonparkcameraclub.org
X-WR-CALDESC:Events for Washington Park Camera Club
REFRESH-INTERVAL;VALUE=DURATION:PT1H
X-Robots-Tag:noindex
X-PUBLISHED-TTL:PT1H
BEGIN:VTIMEZONE
TZID:America/Chicago
BEGIN:DAYLIGHT
TZOFFSETFROM:-0600
TZOFFSETTO:-0500
TZNAME:CDT
DTSTART:20240310T080000
END:DAYLIGHT
BEGIN:STANDARD
TZOFFSETFROM:-0500
TZOFFSETTO:-0600
TZNAME:CST
DTSTART:20241103T070000
END:STANDARD
BEGIN:DAYLIGHT
TZOFFSETFROM:-0600
TZOFFSETTO:-0500
TZNAME:CDT
DTSTART:20250309T080000
END:DAYLIGHT
BEGIN:STANDARD
TZOFFSETFROM:-0500
TZOFFSETTO:-0600
TZNAME:CST
DTSTART:20251102T070000
END:STANDARD
BEGIN:DAYLIGHT
TZOFFSETFROM:-0600
TZOFFSETTO:-0500
TZNAME:CDT
DTSTART:20260308T080000
END:DAYLIGHT
BEGIN:STANDARD
TZOFFSETFROM:-0500
TZOFFSETTO:-0600
TZNAME:CST
DTSTART:20261101T070000
END:STANDARD
END:VTIMEZONE
BEGIN:VEVENT
DTSTART;TZID=America/Chicago:20251201T080000
DTEND;TZID=America/Chicago:20251231T170000
DTSTAMP:20260419T110137
CREATED:20251109T203930Z
LAST-MODIFIED:20260104T012957Z
UID:3708-1764576000-1767200400@washingtonparkcameraclub.org
SUMMARY:WPCC - December Theme - Holiday Season
DESCRIPTION:As we get excited for an enjoyable holiday season\, WPCC members will gear up to capture the festive spirit through creative imagery! For our upcoming club show-and-tell\, participating members will focus on holiday-themed images. This is another fantastic opportunity to showcase their creativity\, technique\, and personal style of photography. \n\n\n\nThey will select three best images that showcase any thing relating to our Holiday Season\, i.e.\, Christmas\, Kawanzaa\, etc. Each participating member will present a brief\, 30-second story explaining each image during the Show & Tell session. \n\n\n\nThe Show & Tell will take place on Tuesday\, January 13th\, immediately following the monthly business meeting. \n\n\n\nA link for submitting your images will be sent to you via email. \n\n\n\nPlease submit your images no later than Sunday\, January 11th.
URL:https://washingtonparkcameraclub.org/event/wpcc-december-theme-holiday-season
LOCATION:Illinois
CATEGORIES:Monthly Challenge
END:VEVENT
BEGIN:VEVENT
DTSTART;TZID=America/Chicago:20251216T170000
DTEND;TZID=America/Chicago:20251216T200000
DTSTAMP:20260419T110137
CREATED:20251201T201612Z
LAST-MODIFIED:20251201T215641Z
UID:3793-1765904400-1765915200@washingtonparkcameraclub.org
SUMMARY:In-Person Only - 2025 Holiday Party
DESCRIPTION:The Special Events Committee is happy to invite you to the Washington Park Camera Club 2025 Holiday Party. This is always a great opportunity to enjoy good food\, connect with fellow members\, and celebrate the year together. \n\n\n\nRSVP\n\n\n\nRSVP Deadline: Monday\, December 1\, 2025 \n\n\n\nRSVP Link: https://washingtonparkcameraclub.org/holiday-party-rsvp \n\n\n\nMenu\n\n\n\n\nTurkey\n\n\n\nVegetarian Meat Option\n\n\n\nMacaroni and Cheese\n\n\n\nSweet Potatoes\n\n\n\nString Beans\n\n\n\nRolls\n\n\n\nDesserts\n\n\n\nDrink: Lemonade\n\n\n\n\nWe hope you will join us and be part of the celebration. If you have any questions\, please reach out. \n\n\n\nLooking forward to seeing you there.
URL:https://washingtonparkcameraclub.org/event/in-person-only-2025-holiday-party
LOCATION:Washington Park Fieldhouse\, 5531 S. King Drive\, Chicago\, Illinois\, 60637
CATEGORIES:Social Activity
END:VEVENT
END:VCALENDAR